BEGIN:VCALENDAR
VERSION:2.0
PRODID:-//wp-events-plugin.com//7.2.3.1//EN
BEGIN:VEVENT
UID:6@consciousbusinesscollaborative.org
DTSTART;TZID=America/New_York:20231205T140000
DTEND;TZID=America/New_York:20231205T150000
DTSTAMP:20241022T135734Z
URL:https://consciousbusinesscollaborative.org/events/co-working-at-distri
 ct-slack-crash-course
SUMMARY:Co-Working at DISTRICT: Slack Crash Course
DESCRIPTION:Working alongside others seeking better ways of doing business 
 beyond traditional capitalism benefits us and our companies. By special ar
 rangement\, professional members of our chapter will have complimentary da
 y passes on 1st &amp\; 3rd Tuesdays (normally a $29 value) to gather at th
 e DISTRICT New Haven. Invite a colleague or two – we have up to 25 spot
 s we can fill!\nThis Week's Topic\nJack Nork presents a quick crash course
  on using Slack to communicate!
ATTACH;FMTTYPE=image/jpeg:https://consciousbusinesscollaborative.org/wp-co
 ntent/uploads/2024/10/coworkin-at-district-new-haven-conscious-business-co
 llaborative-1.png
CATEGORIES:Tools &amp; Technology
LOCATION:DISTRICT\, 470 James St\, New Haven\, CT\, 06513\, United States
X-APPLE-STRUCTURED-LOCATION;VALUE=URI;X-ADDRESS=470 James St\, New Haven\, 
 CT\, 06513\, United States;X-APPLE-RADIUS=100;X-TITLE=DISTRICT:geo:0,0
END:VEVENT
BEGIN:VTIMEZONE
TZID:America/New_York
X-LIC-LOCATION:America/New_York
BEGIN:STANDARD
DTSTART:20231105T010000
TZOFFSETFROM:-0400
TZOFFSETTO:-0500
TZNAME:EST
END:STANDARD
END:VTIMEZONE
END:VCALENDAR